BEGIN:VCALENDAR
VERSION:2.0
PRODID:-//Nationalpark Unteres Odertal - ECPv6.13.2.1//NONSGML v1.0//EN
CALSCALE:GREGORIAN
METHOD:PUBLISH
X-ORIGINAL-URL:https://www.nationalpark-unteres-odertal.de
X-WR-CALDESC:Veranstaltungen für Nationalpark Unteres Odertal
REFRESH-INTERVAL;VALUE=DURATION:PT1H
X-Robots-Tag:noindex
X-PUBLISHED-TTL:PT1H
BEGIN:VTIMEZONE
TZID:Europe/Berlin
BEGIN:DAYLIGHT
TZOFFSETFROM:+0100
TZOFFSETTO:+0200
TZNAME:CEST
DTSTART:20260329T010000
END:DAYLIGHT
BEGIN:STANDARD
TZOFFSETFROM:+0200
TZOFFSETTO:+0100
TZNAME:CET
DTSTART:20261025T010000
END:STANDARD
END:VTIMEZONE
BEGIN:VEVENT
DTSTART;TZID=Europe/Berlin:20260423T101500
DTEND;TZID=Europe/Berlin:20260424T133000
DTSTAMP:20260425T220835
CREATED:20260309T125929Z
LAST-MODIFIED:20260309T125929Z
UID:11879-1776939300-1777037400@www.nationalpark-unteres-odertal.de
SUMMARY:Tagung: Naturnahe Weidelandschaften und ihr Potenzial für Klimaschutz und Wassermanagement
DESCRIPTION:Natur­na­he Wei­de­land­schaf­ten und ihr Poten­ti­al für Kli­ma­schutz und Wassermanagement \nDas von den Ver­ein­ten Natio­nen für 2026 aus­ge­ru­fe­ne „Inter­na­tio­na­le Jahr der Wei­de­land­schaf­ten und des Hir­ten­tums“ neh­men wir zum Anlass\, mit Referent*innen aus Wis­sen­schaft und Pra­xis die Öko­sys­tem­leis­tun­gen von natur­na­hen Wei­de­land­schaf­ten\, ins­be­son­de­re in Bezug auf Kli­ma­schutz und Land­schafts­was­ser­haus­halt\, in den Fokus zu neh­men. Mit der Fach­ta­gung schaf­fen wir ein Forum für den Aus­tausch von Wis­sen\, Erfah­run­gen und Stra­te­gien\, um natur­na­he Bewei­dung zu för­dern und damit Zie­le für Natur­schutz und natür­li­chen Kli­ma­schutz zu erreichen. \nDie Tagung wen­det sich ins­be­son­de­re an Mit­ar­bei­ten­de aus Naturschutz‑\, Wasser‑\, Land­wirt­schafts- und Forst­be­hör­den\, sowie an alle Landnutzer*innen\, Naturschützer*innen\, Landschaftsplaner*innen\, Wissenschaftler*innen\, Behördenmitarbeiter*innen aller Ver­wal­tungs­ebe­nen\, Vertreter*innen aus der Poli­tik\, sowie an alle an der The­ma­tik Interessierten. \nIn Koope­ra­ti­on mit der Deut­schen Umwelthilfe  \nDie Fach­ta­gung wird simul­tan in deut­scher und eng­li­scher Spra­che übersetzt.
URL:https://www.nationalpark-unteres-odertal.de/veranstaltung/tagung-naturnahe-weidelandschaften/
LOCATION:Schloss Criewen\, Park 3\, Schwedt\, 16303
CATEGORIES:Brandenburgische Akademie
ORGANIZER;CN="Brandenburgische Akademie %E2%80%9CSchlo%C3%9F Criewen%E2%80%9D":MAILTO:u.boehme@brandenburgische-akademie.de
END:VEVENT
END:VCALENDAR