BEGIN:VCALENDAR
VERSION:2.0
PRODID:-//Nationalpark Unteres Odertal - ECPv6.13.2.1//NONSGML v1.0//EN
CALSCALE:GREGORIAN
METHOD:PUBLISH
X-WR-CALNAME:Nationalpark Unteres Odertal
X-ORIGINAL-URL:https://www.nationalpark-unteres-odertal.de
X-WR-CALDESC:Veranstaltungen für Nationalpark Unteres Odertal
REFRESH-INTERVAL;VALUE=DURATION:PT1H
X-Robots-Tag:noindex
X-PUBLISHED-TTL:PT1H
BEGIN:VTIMEZONE
TZID:Europe/Berlin
BEGIN:DAYLIGHT
TZOFFSETFROM:+0100
TZOFFSETTO:+0200
TZNAME:CEST
DTSTART:20260329T010000
END:DAYLIGHT
BEGIN:STANDARD
TZOFFSETFROM:+0200
TZOFFSETTO:+0100
TZNAME:CET
DTSTART:20261025T010000
END:STANDARD
END:VTIMEZONE
BEGIN:VEVENT
DTSTART;TZID=Europe/Berlin:20260502T070000
DTEND;TZID=Europe/Berlin:20260502T090000
DTSTAMP:20260425T220810
CREATED:20260220T100354Z
LAST-MODIFIED:20260220T100354Z
UID:11853-1777705200-1777712400@www.nationalpark-unteres-odertal.de
SUMMARY:Exkursion: Vogelstimmenexkursion – morgendlicher Streifzug durch den Polder
DESCRIPTION:Ler­nen Sie die hei­mi­sche Vogel­welt im Natio­nal­park Unte­res Oder­tal ken­nen. Genie­ßen Sie es\, wenn die Natur erwacht und lau­schen Sie dem mor­gend­li­chen Gesang der Vögel. Die Bio­lo­gie­leh­re­rin Kath­le­en Thal (gemein­sam mit der Kul­tur­Ka­pel­le Stol­pe e.V.) steht Ihnen mit ihren Kennt­nis­sen und Erfah­run­gen zur Sei­te und beglei­tet Sie auf eine span­nen­de Exkur­si­on in die Tier- und Pflan­zen­welt im Pol­der­ge­biet des Natio­nal­parks Unte­res Oder­tal. Die­se Exkur­si­on wird in all­ge­mein­ver­ständ­li­cher Form geführt. \nEin Fern­glas\, wet­ter­fes­te Klei­dung\, gutes Schuh­werk und wenn mög­lich ein Bestim­mungs­buch sind vorteilhaft. \nDie Exkur­si­on ist kos­ten­los\, Spen­den sind aber willkommen. \nWir bit­ten um eine vor­he­ri­ge Anmel­dung unter der E‑Mail-Adres­se: d.lindemann@nationalpark-unteres-odertal.de\, Tele­fon +49 (0)3332–219822 oder über die Buchungs­funk­ti­on unten auf die­ser Seite. \nDer Vor­stand
URL:https://www.nationalpark-unteres-odertal.de/veranstaltung/exkursion-vogelstimmenexkursion-morgendlicher-streifzug-durch-den-polder/
LOCATION:Kanalbrücke Stolpe\, X4G7+WF\, Angermünde\, Brandenburg\, 16278
CATEGORIES:Exkursion
ATTACH;FMTTYPE=image/jpeg:https://www.nationalpark-unteres-odertal.de/wp-content/uploads/goldammer-grimm.jpg
ORGANIZER;CN="Nationalparkstiftung":MAILTO:nationalparkstiftung@unteres-odertal.info
END:VEVENT
BEGIN:VEVENT
DTSTART;TZID=Europe/Berlin:20260502T090000
DTEND;TZID=Europe/Berlin:20260502T120000
DTSTAMP:20260425T220810
CREATED:20260220T100456Z
LAST-MODIFIED:20260220T100456Z
UID:11858-1777712400-1777723200@www.nationalpark-unteres-odertal.de
SUMMARY:Exkursion: Wirbeltiere\, Insekten und Pflanzen im unteren Odertal
DESCRIPTION:Bei die­ser Fahr­rad-Exkur­si­on (10–15 km) brin­gen Ihnen die Exper­ten des Muse­ums für Natur­kun­de Ber­lin die ein­zig­ar­ti­ge Tier- und Pflan­zen­welt im Natio­nal­park Unte­res Oder­tal\, dem arten­reichs­ten Lebens­raum Deutsch­lands\, wis­sen­schaft­lich geführt\, aber doch all­ge­mein­ver­ständ­lich\, näher. Unter der Lei­tung von Dr. C. Deckert\, Dr. J. Deckert\, Dr. A. Hoff­mann und Dr. W. Mey erfah­ren Sie viel Inter­es­san­tes und Wis­sens­wer­tes über Mäu­se\, Klein­säu­ger\, Schmet­ter­lin­ge\, Wan­zen\, Vögel\, Pflan­zen und vie­les mehr. Ein Bestim­mungs­buch ist von Vorteil. \nDie Exkur­si­on ist kos­ten­los\, Spen­den sind aber willkommen. \nWir bit­ten um eine vor­he­ri­ge Anmel­dung unter der E‑Mail-Adres­se: d.lindemann@nationalpark-unteres-odertal.de\, Tele­fon +49 (0)3332–219822 oder über die Buchungs­funk­ti­on unten auf die­ser Seite. \nÜber­nach­tungs­mög­lich­kei­ten\, wenn gewünscht\, kön­nen in der Wild­nis­schu­le Teero­fen­brü­cke unter Tel.: 03332/838840 oder info@wildnisschule-teerofenbruecke.de gebucht werden. \nDer Vor­stand \nEich­hörn­chen (Foto: W. Stürzbecher)
URL:https://www.nationalpark-unteres-odertal.de/veranstaltung/exkursion-wirbeltiere-insekten-und-pflanzen-im-unteren-odertal-3/
LOCATION:An der Teerofenbrücke\, Wildnisschule\, Teerofenbrücke 2\, Schwedt\, Brandenburg\, 16303
CATEGORIES:Exkursion
ATTACH;FMTTYPE=image/jpeg:https://www.nationalpark-unteres-odertal.de/wp-content/uploads/acker-wachtelweizen-blutke-1.jpg
ORGANIZER;CN="Nationalparkstiftung":MAILTO:nationalparkstiftung@unteres-odertal.info
END:VEVENT
END:VCALENDAR