BEGIN:VCALENDAR
VERSION:2.0
PRODID:-//Nationalpark Unteres Odertal - ECPv6.13.2.1//NONSGML v1.0//EN
CALSCALE:GREGORIAN
METHOD:PUBLISH
X-WR-CALNAME:Nationalpark Unteres Odertal
X-ORIGINAL-URL:https://www.nationalpark-unteres-odertal.de
X-WR-CALDESC:Veranstaltungen für Nationalpark Unteres Odertal
REFRESH-INTERVAL;VALUE=DURATION:PT1H
X-Robots-Tag:noindex
X-PUBLISHED-TTL:PT1H
BEGIN:VTIMEZONE
TZID:Europe/Berlin
BEGIN:DAYLIGHT
TZOFFSETFROM:+0100
TZOFFSETTO:+0200
TZNAME:CEST
DTSTART:20260329T010000
END:DAYLIGHT
BEGIN:STANDARD
TZOFFSETFROM:+0200
TZOFFSETTO:+0100
TZNAME:CET
DTSTART:20261025T010000
END:STANDARD
END:VTIMEZONE
BEGIN:VEVENT
DTSTART;TZID=Europe/Berlin:20260425T190000
DTEND;TZID=Europe/Berlin:20260425T213000
DTSTAMP:20260425T204642
CREATED:20260220T100134Z
LAST-MODIFIED:20260220T100134Z
UID:11848-1777143600-1777152600@www.nationalpark-unteres-odertal.de
SUMMARY:Exkursion: Abendliche Frühjahrswanderung durch die Aue
DESCRIPTION:Bei die­ser Wan­de­rung durch die Natur kön­nen Sie nicht nur die hei­mi­sche Vogel­welt\, son­dern auch ande­re Tie­re und Pflan­zen mit­ten im Her­zen des Natio­nal­par­kes Unte­res Oder­tal ent­de­cken und ken­nen­ler­nen. Die erfah­re­nen Orni­tho­lo­gen Ulf Kraatz und Hans-Jochen Hafer­land (Orni­tho­lo­gi­sche Arbeits­ge­mein­schaft Ucker­mark) erläu­tern Ihnen in all­ge­mein­ver­ständ­li­cher Form die span­nen­de Tier- und Pflan­zen­welt des unte­ren Oder­tals. Ein Bestim­mungs­buch und ein Fern­glas sind vorteilhaft. \nDie Exkur­si­on ist kos­ten­los\, Spen­den sind aber willkommen. \nWir bit­ten um eine vor­he­ri­ge Anmel­dung unter der E‑Mail-Adres­se: d.lindemann@nationalpark-unteres-odertal.de\, Tele­fon +49 (0)3332–219822 oder über die Buchungs­funk­ti­on unten auf die­ser Seite. \nÜber­nach­tungs­mög­lich­kei­ten\, wenn gewünscht\, kön­nen in der Wild­nis­schu­le Teero­fen­brü­cke unter Tel.: 03332/838840 oder info@wildnisschule-teerofenbruecke.de gebucht werden. \nDer Vor­stand
URL:https://www.nationalpark-unteres-odertal.de/veranstaltung/exkursion-abendliche-fruehjahrswanderung-durch-die-aue/
LOCATION:Parkplatz Teerofenbrücke\, Wildnisschule\, Teerofenbrücke 2\, Schwedt\, Brandenburg\, 16303
CATEGORIES:Exkursion
ATTACH;FMTTYPE=image/jpeg:https://www.nationalpark-unteres-odertal.de/wp-content/uploads/rotkehlchen-stuerzbecher.jpg
ORGANIZER;CN="Nationalparkstiftung":MAILTO:nationalparkstiftung@unteres-odertal.info
END:VEVENT
BEGIN:VEVENT
DTSTART;TZID=Europe/Berlin:20260502T070000
DTEND;TZID=Europe/Berlin:20260502T090000
DTSTAMP:20260425T204642
CREATED:20260220T100354Z
LAST-MODIFIED:20260220T100354Z
UID:11853-1777705200-1777712400@www.nationalpark-unteres-odertal.de
SUMMARY:Exkursion: Vogelstimmenexkursion – morgendlicher Streifzug durch den Polder
DESCRIPTION:Ler­nen Sie die hei­mi­sche Vogel­welt im Natio­nal­park Unte­res Oder­tal ken­nen. Genie­ßen Sie es\, wenn die Natur erwacht und lau­schen Sie dem mor­gend­li­chen Gesang der Vögel. Die Bio­lo­gie­leh­re­rin Kath­le­en Thal (gemein­sam mit der Kul­tur­Ka­pel­le Stol­pe e.V.) steht Ihnen mit ihren Kennt­nis­sen und Erfah­run­gen zur Sei­te und beglei­tet Sie auf eine span­nen­de Exkur­si­on in die Tier- und Pflan­zen­welt im Pol­der­ge­biet des Natio­nal­parks Unte­res Oder­tal. Die­se Exkur­si­on wird in all­ge­mein­ver­ständ­li­cher Form geführt. \nEin Fern­glas\, wet­ter­fes­te Klei­dung\, gutes Schuh­werk und wenn mög­lich ein Bestim­mungs­buch sind vorteilhaft. \nDie Exkur­si­on ist kos­ten­los\, Spen­den sind aber willkommen. \nWir bit­ten um eine vor­he­ri­ge Anmel­dung unter der E‑Mail-Adres­se: d.lindemann@nationalpark-unteres-odertal.de\, Tele­fon +49 (0)3332–219822 oder über die Buchungs­funk­ti­on unten auf die­ser Seite. \nDer Vor­stand
URL:https://www.nationalpark-unteres-odertal.de/veranstaltung/exkursion-vogelstimmenexkursion-morgendlicher-streifzug-durch-den-polder/
LOCATION:Kanalbrücke Stolpe\, X4G7+WF\, Angermünde\, Brandenburg\, 16278
CATEGORIES:Exkursion
ATTACH;FMTTYPE=image/jpeg:https://www.nationalpark-unteres-odertal.de/wp-content/uploads/goldammer-grimm.jpg
ORGANIZER;CN="Nationalparkstiftung":MAILTO:nationalparkstiftung@unteres-odertal.info
END:VEVENT
BEGIN:VEVENT
DTSTART;TZID=Europe/Berlin:20260502T090000
DTEND;TZID=Europe/Berlin:20260502T120000
DTSTAMP:20260425T204642
CREATED:20260220T100456Z
LAST-MODIFIED:20260220T100456Z
UID:11858-1777712400-1777723200@www.nationalpark-unteres-odertal.de
SUMMARY:Exkursion: Wirbeltiere\, Insekten und Pflanzen im unteren Odertal
DESCRIPTION:Bei die­ser Fahr­rad-Exkur­si­on (10–15 km) brin­gen Ihnen die Exper­ten des Muse­ums für Natur­kun­de Ber­lin die ein­zig­ar­ti­ge Tier- und Pflan­zen­welt im Natio­nal­park Unte­res Oder­tal\, dem arten­reichs­ten Lebens­raum Deutsch­lands\, wis­sen­schaft­lich geführt\, aber doch all­ge­mein­ver­ständ­lich\, näher. Unter der Lei­tung von Dr. C. Deckert\, Dr. J. Deckert\, Dr. A. Hoff­mann und Dr. W. Mey erfah­ren Sie viel Inter­es­san­tes und Wis­sens­wer­tes über Mäu­se\, Klein­säu­ger\, Schmet­ter­lin­ge\, Wan­zen\, Vögel\, Pflan­zen und vie­les mehr. Ein Bestim­mungs­buch ist von Vorteil. \nDie Exkur­si­on ist kos­ten­los\, Spen­den sind aber willkommen. \nWir bit­ten um eine vor­he­ri­ge Anmel­dung unter der E‑Mail-Adres­se: d.lindemann@nationalpark-unteres-odertal.de\, Tele­fon +49 (0)3332–219822 oder über die Buchungs­funk­ti­on unten auf die­ser Seite. \nÜber­nach­tungs­mög­lich­kei­ten\, wenn gewünscht\, kön­nen in der Wild­nis­schu­le Teero­fen­brü­cke unter Tel.: 03332/838840 oder info@wildnisschule-teerofenbruecke.de gebucht werden. \nDer Vor­stand \nEich­hörn­chen (Foto: W. Stürzbecher)
URL:https://www.nationalpark-unteres-odertal.de/veranstaltung/exkursion-wirbeltiere-insekten-und-pflanzen-im-unteren-odertal-3/
LOCATION:An der Teerofenbrücke\, Wildnisschule\, Teerofenbrücke 2\, Schwedt\, Brandenburg\, 16303
CATEGORIES:Exkursion
ATTACH;FMTTYPE=image/jpeg:https://www.nationalpark-unteres-odertal.de/wp-content/uploads/acker-wachtelweizen-blutke-1.jpg
ORGANIZER;CN="Nationalparkstiftung":MAILTO:nationalparkstiftung@unteres-odertal.info
END:VEVENT
BEGIN:VEVENT
DTSTART;TZID=Europe/Berlin:20260613T180000
DTEND;TZID=Europe/Berlin:20260613T210000
DTSTAMP:20260425T204642
CREATED:20260223T083720Z
LAST-MODIFIED:20260223T083720Z
UID:11873-1781373600-1781384400@www.nationalpark-unteres-odertal.de
SUMMARY:Exkursion: Zu Haus bei der Fledermaus
DESCRIPTION:Die Fle­der­mäu­se sind die ein­zi­gen Säu­ge­tie­re und\, neben den Vögeln\, die ein­zi­gen Wir­bel­tie­re\, die aktiv flie­gen kön­nen. Die per­fek­te Anpas­sung der Fle­der­mäu­se an die Luft prägt auch ihre Lebens­wei­se. Unter der Lei­tung des Fle­der­maus­exper­ten Dr. Hel­mut Gil­le erfah­ren Sie viel Inter­es­san­tes über das gehei­me Leben der Jäger der Nacht. Ein Bestim­mungs­buch ist vorteilhaft. \nDie Exkur­si­on ist kos­ten­los\, Spen­den sind aber willkommen. \nWir bit­ten um eine vor­he­ri­ge Anmel­dung unter der E‑Mail-Adres­se: d.lindemann@nationalpark-unteres-odertal.de\, Tele­fon +49 (0)3332–219822 oder über die Buchungs­funk­ti­on unten auf die­ser Seite. \nÜber­nach­tungs­mög­lich­kei­ten\, wenn gewünscht\, kön­nen in der Wild­nis­schu­le Teero­fen­brü­cke unter Tel.: 03332/838840 oder info@wildnisschule-teerofenbruecke.de gebucht werden. \nDer Vor­stand
URL:https://www.nationalpark-unteres-odertal.de/veranstaltung/exkursion-zu-haus-bei-der-fledermaus-3/
LOCATION:Wildnisschule Teerofenbrücke\, Teerofenbrücke 2\, Schwedt\, 16303
CATEGORIES:Exkursion
ATTACH;FMTTYPE=image/jpeg:https://www.nationalpark-unteres-odertal.de/wp-content/uploads/Exk.-13.06.2025_Bartfledermaus_H.Gille_-1.jpg
ORGANIZER;CN="Nationalparkstiftung":MAILTO:nationalparkstiftung@unteres-odertal.info
END:VEVENT
BEGIN:VEVENT
DTSTART;TZID=Europe/Berlin:20260621T120000
DTEND;TZID=Europe/Berlin:20260621T143000
DTSTAMP:20260425T204642
CREATED:20260220T095833Z
LAST-MODIFIED:20260220T095833Z
UID:11838-1782043200-1782052200@www.nationalpark-unteres-odertal.de
SUMMARY:Exkursion: Bienen und Wespen - Geheimnisvolle Vielfalt
DESCRIPTION:Fin­det bei Regen­wet­ter nicht statt! \nDie ein­zig­ar­ti­ge Welt der Bie­nen und Wes­pen ist abwechs­lungs­reich. Gera­de an den Wild­bie­nen sieht man beson­ders die Viel­falt\, Schön­heit und Eigen­art der hei­mi­schen Natur. Nicht nur die Honig­bie­nen\, son­dern auch die Wild­bie­nen haben eine gro­ße Bedeu­tung als Blü­ten­be­stäu­ber und damit für unse­re Öko­sys­te­me. Dr. Chris­toph Sau­re (Büro für tier­öko­lo­gi­sche Stu­di­en Ber­lin) ver­mit­telt viel Wis­sens­wer­tes und Span­nen­des zum The­ma Bie­nen und Wes­pen in all­ge­mein­ver­ständ­li­cher Form. Ein Bestim­mungs­buch und eine Lupe sind vorteilhaft. \nDie Exkur­si­on ist kos­ten­los\, Spen­den sind aber willkommen. \nWir bit­ten um eine vor­he­ri­ge Anmel­dung unter der E‑Mail-Adres­se: d.lindemann@nationalpark-unteres-odertal.de oder Tel.: 03332 / 219822 oder über die Buchungs­funk­ti­on unten auf die­ser Seite. \nDer Vor­stand
URL:https://www.nationalpark-unteres-odertal.de/veranstaltung/exkursion-bienen-und-wespen-geheimnisvolle-vielfalt-3/
LOCATION:Ortsmitte Blumenhagen (Gemeindeverwaltung und Bushaltestelle)\, Gemeindeverwaltung\, Schwedt / OT Blumenhagen\, Brandenburg\, 16303\, Deutschland
CATEGORIES:Exkursion
ATTACH;FMTTYPE=image/jpeg:https://www.nationalpark-unteres-odertal.de/wp-content/uploads/Exk.-25.06.2022_Biene-auf-Krokus_Stuerzbecher.jpg
ORGANIZER;CN="Nationalparkstiftung":MAILTO:nationalparkstiftung@unteres-odertal.info
END:VEVENT
BEGIN:VEVENT
DTSTART;TZID=Europe/Berlin:20260718T100000
DTEND;TZID=Europe/Berlin:20260718T123000
DTSTAMP:20260425T204642
CREATED:20260415T080807Z
LAST-MODIFIED:20260415T080807Z
UID:11892-1784368800-1784377800@www.nationalpark-unteres-odertal.de
SUMMARY:Exkursion: Auerochse\, Ur & Heckrind
DESCRIPTION:Die soge­nann­ten Heck­rin­der\, ver­ge­sell­schaf­tet mit urwüch­si­gen Pfer­den wie dem Exmoor-Pony oder dem Konik\, der dem west­li­chen Wild­pferd\, dem Tar­pan\, noch sehr ähn­lich ist\, die­nen der öko­lo­gi­schen Land­wirt­schaft und dem Natur­schutz glei­cher­ma­ßen. Sie sind aus­nahms­los wider­stands­fä­hig und durch­aus impo­sant und wehr­haft. Die Exkur­si­on wird von Herrn Tho­mas Berg (Natio­nal­park­ver­ein Unte­res Oder­tal\, Vor­stands­vor­sit­zen­der) in all­ge­mein­ver­ständ­li­cher Form gelei­tet. Ein Fern­glas ist vorteilhaft. \nDie Exkur­si­on ist kos­ten­los\, Spen­den sind aber willkommen. \nWir bit­ten um eine vor­he­ri­ge Anmel­dung unter der E‑Mail-Adres­se: d.lindemann@nationalpark-unteres-odertal.de\, Tele­fon +49 (0)3332–219822 oder über die Buchungs­funk­ti­on unten auf die­ser Seite. \nDer Vor­stand
URL:https://www.nationalpark-unteres-odertal.de/veranstaltung/exkursion-auerochse-ur-heckrind/
LOCATION:Stolzenhagen\, Kanalbrücke\, Kanalbrücke\, Lunow-Stolzenhagen\, Brandenburg\, 16248\, Deutschland
CATEGORIES:Exkursion
ATTACH;FMTTYPE=image/jpeg:https://www.nationalpark-unteres-odertal.de/wp-content/uploads/Exk.-09.07.2022_Auerochsen_Thomas-Berg-e1649673835657.jpg
ORGANIZER;CN="Nationalparkstiftung":MAILTO:nationalparkstiftung@unteres-odertal.info
END:VEVENT
BEGIN:VEVENT
DTSTART;TZID=Europe/Berlin:20260914T111500
DTEND;TZID=Europe/Berlin:20260915T134500
DTSTAMP:20260425T204642
CREATED:20260309T131147Z
LAST-MODIFIED:20260309T131147Z
UID:11883-1789384500-1789479900@www.nationalpark-unteres-odertal.de
SUMMARY:Tagung: Der Fließgewässer-Libellenbestand in seiner Auf- und Abwärtsentwicklung
DESCRIPTION:Der Fließ­ge­wäs­ser-Libel­len­be­stand in sei­ner Auf- und Abwärtsentwicklung \nLibel­len bewoh­nen je nach ihrem Ent­wick­lungs­sta­di­um die Gewäs­ser und die Lüf­te. Auf Ver­än­de­run­gen die­ser bei­den Lebens­räu­me reagie­ren sie emp­find­lich und wei­sen mit ihrer Arten- und Indi­vi­du­en­zahl auf eine Ver­schlech­te­rung ihrer Bio­to­pe hin. Es lohnt sich also\, ihre Bestands­ent­wick­lung\, nicht nur im unte­ren Oder­tal\, in den Blick zu neh­men. Die Tagung soll gemein­sam mit der Gesell­schaft Deut­scher Odon­to­lo­gen (GDO) durch­ge­führt werden. \nDie Tagung rich­tet sich dabei kei­nes­wegs nur an Natur­freun­de und ‑schüt­zer\, son­dern an alle\, die an Gewäs­sern leben und arbei­ten\, ins­be­son­de­re auch an Fischer\, Ang­ler\, aber auch Was­ser­bau­er und Landwirte. \n  \nNach der deut­schen Wie­der­ver­ei­ni­gung kam es im Rah­men erfolg­rei­cher Umwelt­schutz­be­mü­hun­gen auch zu einer Ver­bes­se­rung der Gewäs­ser­gü­te und infol­ge des­sen zu einer bei­spiel­lo­sen Wie­der­be­sied­lung der Flüs­se durch Libel­len. Nach die­ser höchst erfreu­li­chen Ent­wick­lung müs­sen wir lei­der aktu­ell dra­ma­ti­sche Bestands­rück­gän­ge ver­zeich­nen\, deren Ursa­chen aber noch sehr rät­sel­haft sind\, denn die Gewäs­ser­gü­te hat sich zumin­dest nicht ver­schlech­tert. Gera­de zu die­ser Ursa­chen­for­schung wäre ein Aus­tausch unter Fach­leu­ten außer­or­dent­lich wich­tig und hoch aktuell. \nIn Koope­ra­ti­on mit der Gesell­schaft Deut­scher Odontologen  \nKon­fe­renz­spra­che: deutsch
URL:https://www.nationalpark-unteres-odertal.de/veranstaltung/tagung-fliessgewaeaeser-libellenbestand/
LOCATION:Schloss Criewen\, Park 3\, Schwedt\, 16303
CATEGORIES:Brandenburgische Akademie
ORGANIZER;CN="Brandenburgische Akademie %E2%80%9CSchlo%C3%9F Criewen%E2%80%9D":MAILTO:u.boehme@brandenburgische-akademie.de
END:VEVENT
BEGIN:VEVENT
DTSTART;TZID=Europe/Berlin:20260914T140000
DTEND;TZID=Europe/Berlin:20260914T150000
DTSTAMP:20260425T204642
CREATED:20260220T095535Z
LAST-MODIFIED:20260415T075927Z
UID:11832-1789394400-1789398000@www.nationalpark-unteres-odertal.de
SUMMARY:Exkursion: Durch die Wälder\, durch die Auen
DESCRIPTION:Aus dem soge­nann­ten wil­den Wald­weg\, stark beein­flusst vom Sturm “Xavier” im Okto­ber 2017\, ent­stand der Wil­d­­nis-Erle­b­­nis­pfad in Crie­wen. Ein Teil­ab­schnitt (1 km) wur­de nach dem Sturm nicht beräumt\, um die Wild­nis unmit­tel­bar erleb­bar zu machen. Die­se Exkur­si­on zeigt die Fol­gen des Sturms und wie sich die Wild­nis ent­wi­ckelt: Umge­stürz­te Bäu­me\, rie­si­ge Wur­zel­tel­ler\, totes Holz\, das ver­rot­tet und wie­der neu­es Leben ent­ste­hen lässt\, ein Natur­er­leb­nis\, das deut­lich macht\, wie ein­drucks­voll wil­der Wald sein kann. \n \n  \n  \n  \n  \n  \n  \n  \n  \nÜber den Wil­d­­nis-Erle­b­­nis­pfad gelangt man zu den Wisen­ten\, den wirk­li­chen Köni­gen des Wal­des. Seit 2012 wer­den die letz­ten hei­mi­schen Wild­rin­der Euro­pas von der Natio­nal­park­stif­tung Unte­res Oder­tal auch am ein­zi­gen bran­den­bur­gi­schen Natio­nal­park gehal­ten. Wisen­te waren hier schon zu Hau­se\, als es noch kein Land Bran­den­burg und kei­nen Natio­nal­park gab. Sie gehö­ren sozu­sa­gen zu den Urein­woh­nern\, die nun in ihre alte Hei­mat zurück­ge­kehrt sind. \nNach einem kur­zen Fuß­weg durch den Natio­nal­park gelan­gen die Exkur­si­ons­teil­neh­mer zu den wirk­li­chen Köni­gen des Wal­des\, die fach­kun­dig vom Vor­stand der Natio­nal­park­stif­tung Unte­res Oder­tal\, Dr. Ans­gar Vös­sing\, prä­sen­tiert wer­den. Fes­tes Schuh­werk und ein Fern­glas sind vorteilhaft. \nDie Exkur­si­on ist kos­ten­los\, Spen­den sind aber willkommen. \nWir bit­ten um eine vor­he­ri­ge Anmel­dung unter der E‑Mail-Adres­se: d.lindemann@nationalpark-unteres-odertal.de\, Tele­fon +49 (0)3332–219822 oder über die Buchungs­funk­ti­on unten auf die­ser Seite. \nDer Vor­stand \n 
URL:https://www.nationalpark-unteres-odertal.de/veranstaltung/exkursion-durch-die-waelder-durch-die-auen/
LOCATION:Schloss Criewen\, Park 3\, Schwedt\, 16303
CATEGORIES:Exkursion
ATTACH;FMTTYPE=image/jpeg:https://www.nationalpark-unteres-odertal.de/wp-content/uploads/Exk._22.09.2025_Wisentkuh-mit-Jungtier-Criewen_A.-Voessing.jpg
ORGANIZER;CN="Nationalparkstiftung":MAILTO:nationalparkstiftung@unteres-odertal.info
END:VEVENT
BEGIN:VEVENT
DTSTART;TZID=Europe/Berlin:20260924T111500
DTEND;TZID=Europe/Berlin:20260925T134500
DTSTAMP:20260425T204642
CREATED:20260309T133012Z
LAST-MODIFIED:20260309T133012Z
UID:11887-1790248500-1790343900@www.nationalpark-unteres-odertal.de
SUMMARY:Tagung: Pflege und Entwicklung der Wasserläufe in Flussauen - Altarmrenaturierung\, Uferentsiegelung\, Wasserqualitätsverbesserung
DESCRIPTION:Pfle­ge und Ent­wick­lung der Was­ser­läu­fe in Fluss­au­en – Altarm­re­na­tu­rie­rung\, Ufer­ent­sie­ge­lung\, Wasserqualitätsverbesserung \nFluss­au­en sind tra­di­tio­nell beson­ders umkämpf­te Land­schaf­ten\, der Kon­kur­renz­druck auf die begrenz­te Flä­che ist groß. Indus­trie\, Ver­kehr und Woh­nungs­bau\, aber auch Kies­ab­bau\, Land- und Forst­wirt­schaft\, sowie Tou­ris­mus\, strei­ten um das begrenz­te Gut. Infol­ge des­sen konn­ten nur weni­ge klei­ne Natur­schutz­ge­bie­te oder gar Natio­nal­par­ke dort eta­bliert wer­den\, nahe Wiens in den Donau­au­en\, in dem ehe­ma­li­gen Jagd­ge­biet der Habs­bur­ger und in der Nähe Ber­lins\, im abge­le­ge­nen deutsch-pol­ni­schen Grenz­ge­biet im unte­ren Oder­tal. Ein Natio­nal­park­grün­dungs­ver­such an der Elbe schei­ter­te. Die Fluss­au­en sind also stark regu­liert und ver­baut. Punk­tu­ell sind aber durch­aus Verbs­se­run­gen mög­lich\, dazu ist ein inter­na­tio­na­ler Erfah­rungs­aus­tausch sinn­voll\, nicht nur mit Anlie­gern an der Oder\, Donau\, Elbe und Rhein\, son­dern auch von ande­ren euro­päi­schen Flüs­sen im deutsch­spra­chi­gen Raum. \nDie Tagung rich­tet sich nicht nur an Natur­schüt­zer\, son­dern an alle an den Fluss­au­en inter­es­sier­ten Fach­leu­te\, Was­ser­bau­er\, Ver­kehrs­exper­ten\, Land- und Forst­wir­te\, Fischer und Ang­ler\, Stadt­pla­ner und Baufachleute. \nIn Koope­ra­ti­on mit dem Natio­nal­park Donau-Auen Össterreich  \nKon­fe­renz­spra­che: deutsch\, eng­lisch­spra­chi­ge Vor­trä­ge im Einzelfall
URL:https://www.nationalpark-unteres-odertal.de/veranstaltung/tagung-pflege-entwicklung-in-flussauen/
LOCATION:Schloss Criewen\, Park 3\, Schwedt\, 16303
CATEGORIES:Brandenburgische Akademie
ORGANIZER;CN="Brandenburgische Akademie %E2%80%9CSchlo%C3%9F Criewen%E2%80%9D":MAILTO:u.boehme@brandenburgische-akademie.de
END:VEVENT
BEGIN:VEVENT
DTSTART;TZID=Europe/Berlin:20260924T140000
DTEND;TZID=Europe/Berlin:20260924T150000
DTSTAMP:20260425T204642
CREATED:20260220T095206Z
LAST-MODIFIED:20260415T075842Z
UID:11827-1790258400-1790262000@www.nationalpark-unteres-odertal.de
SUMMARY:Exkursion: Weite Wiesen\, wilder Wald – Wanderung über den Wildnis-Erlebnispfad zur Wisentweide
DESCRIPTION:Aus dem soge­nann­ten wil­den Wald­weg\, stark beein­flusst vom Sturm “Xavier” im Okto­ber 2017\, ent­stand der Wil­d­­nis-Erle­b­­nis­pfad in Crie­wen. Ein Teil­ab­schnitt (1 km) wur­de nach dem Sturm nicht beräumt\, um die Wild­nis unmit­tel­bar erleb­bar zu machen. Die­se Exkur­si­on zeigt die Fol­gen des Sturms und wie sich die Wild­nis ent­wi­ckelt: Umge­stürz­te Bäu­me\, rie­si­ge Wur­zel­tel­ler\, totes Holz\, das ver­rot­tet und wie­der neu­es Leben ent­ste­hen lässt\, ein Natur­er­leb­nis\, das deut­lich macht\, wie ein­drucks­voll wil­der Wald sein kann. \n \n  \n  \n  \n  \n  \n  \n  \n  \nÜber den Wil­d­­nis-Erle­b­­nis­pfad gelangt man zu den Wisen­ten\, den wirk­li­chen Köni­gen des Wal­des. Seit 2012 wer­den die letz­ten hei­mi­schen Wild­rin­der Euro­pas von der Natio­nal­park­stif­tung Unte­res Oder­tal auch am ein­zi­gen bran­den­bur­gi­schen Natio­nal­park gehal­ten. Wisen­te waren hier schon zu Hau­se\, als es noch kein Land Bran­den­burg und kei­nen Natio­nal­park gab. Sie gehö­ren sozu­sa­gen zu den Urein­woh­nern\, die nun in ihre alte Hei­mat zurück­ge­kehrt sind. \nNach einem kur­zen Fuß­weg durch den Natio­nal­park gelan­gen die Exkur­si­ons­teil­neh­mer zu den wirk­li­chen Köni­gen des Wal­des\, die fach­kun­dig vom Vor­stand der Natio­nal­park­stif­tung Unte­res Oder­tal\, Dr. Ans­gar Vös­sing\, prä­sen­tiert wer­den. Fes­tes Schuh­werk und ein Fern­glas sind vorteilhaft. \nDie Exkur­si­on ist kos­ten­los\, Spen­den sind aber willkommen. \nWir bit­ten um eine vor­he­ri­ge Anmel­dung unter der E‑Mail-Adres­se: d.lindemann@nationalpark-unteres-odertal.de\, Tele­fon +49 (0)3332–219822 oder über die Buchungs­funk­ti­on unten auf die­ser Seite. \nDer Vor­stand \n 
URL:https://www.nationalpark-unteres-odertal.de/veranstaltung/exkursion-weite-wiesen-wilder-wald-wanderung-ueber-den-wildnis-erlebnispfad-zur-wisentweide-4/
LOCATION:Schloss Criewen\, Park 3\, Schwedt\, 16303
CATEGORIES:Exkursion
ATTACH;FMTTYPE=image/jpeg:https://www.nationalpark-unteres-odertal.de/wp-content/uploads/Exk._24.09.2026_Wisente_W.-Stuerzbecher-scaled.jpg
ORGANIZER;CN="Nationalparkstiftung":MAILTO:nationalparkstiftung@unteres-odertal.info
END:VEVENT
END:VCALENDAR